Workbook
Name BidTerm: B_CoverSht!#REF!
Name BidTerm: #REF!
Name BidTerm: #REF!
Name BidTerm: #REF!
Name BidTerm_2: #REF!
Name CAF: #REF!
Name CAF: #REF!
Name CAF: #REF!
Name CF: #REF!
Name CF: #REF!
Name CF: #REF!
Name CF_New: #REF!
Name dist: #REF!
Name dist: #REF!
Name dist: #REF!
Name dist: #REF!
Name dist: #REF!
Name dist: #REF!
Name dist_new: #REF!
Name EFOR: #REF!
Name EFOR: #REF!
Name EFOR: #REF!
Name FormD1: #REF!
Name FormD1: #REF!
Name FormD1: C_Pricing!$C$10:$F$39
Name HR: #REF!
Name HR: #REF!
Name HR: #REF!
Name Hrs_Start: #REF!
Name Hrs_Start: #REF!
Name Hrs_Start: #REF!
Name infl: #REF!
Name infl: #REF!
Name infl: #REF!
Name infl: #REF!
Name infl: #REF!
Name LFCR: #REF!
Name LFCR: #REF!
Name LFCR: #REF!
Name LFCR: #REF!
Name LFCR: #REF!
Name loss_TD: #REF!
Name loss_TD: #REF!
Name loss_TD: #REF!
Name loss_TD: #REF!
Name loss_TD: #REF!
Name loss_wheeling: #REF!
Name loss_wheeling: #REF!
Name loss_wheeling: #REF!
Name loss_wheeling: D2_InterconnectCost!#REF!
Name loss_wheeling: #REF!
Name loss_wheeling: #REF!
Name NC: #REF!
Name NC: #REF!
Name Nturbine_Start: C_Pricing!$H$5
Name other: #REF!
Name other: #REF!
Name other: #REF!
Name other: #REF!
Name other: #REF!

Sheet A_BidCert
A1: Form A - Bid Certification
A3: The bidder hereby certifies that all of the statements and representations made in this proposal are true to the best of the bidder's knowledge and belief.
A5: Submitted by:
C6: (exact legal name of firm)
A8: Bidder:
C9: (if different than above)
A11: Signature of an Officer of Bidder:
A12: Name of Officer:
A15: Title:
A17: Date Signed:

Sheet B_CoverSht
A1: Form B - Bid Cover Sheet
A3: 1) | B3: Project / Facility Name:
A5: 2) | B5: Project Location (city, county, state):
C6: (latitude, longitude): | E6: °N | G6: °W
D7: (decimal format; accurate to three (3) decimal places)
A8: 3) | B8: Bidder Contact:
C9: Name:
C10: Company:
C11: Address:
C12: Phone / Fax:
C13: email:
A15: 4) | B15: Alternate Contact:
C16: Name:
C17: Company:
C18: Address:
C19: Phone / Fax:
C20: email:
A22: 5) | B22: Technology:
C23: Type (Please select):
C24: Other (describe):
C25: Facility Nameplate capacity (AC): | E25: MW
A29: 6) | B29: Proposed Commercial Operation Date:
A31: 7) | B31: Point of Delivery Description:
A33: 8) | B33: Point of Delivery is on the:
A35: 9) | B35: Proposed PPA Term (Years):
A37: 10) | B37: Utility Providing Retail Service at Proposed Location:
B39: * Unless noted otherwise, kW, kWh, MW, MWh refer to AC power and energy.

Sheet C_Pricing
A1: Form C - Pricing
B3: Enter fixed payment rates (in $/kW-mo), if any, proposed for each year of the PPA in the column labeled Capacity Price. Enter variable payment rates (e.g. variable O&M) (in $/MWh), if any, proposed to be paid for each MWh of energy delivered to the point of delivery in the columns labeled VOM. Enter the proposed cost (in $ per turbine start), if any, to be paid for each requested turbine start successfully performed in the columns labeled Turbine Start Price. For storage projects, enter proposed Capacity Price ($/kW-mo) and any variable charges as Battery Payment Rate ($/MWh), as applicable. Turbine Start Prices do not apply to storage projects. All prices should be entered in nominal dollars and inclusive of any Federal Tax Incentives. Prices may be fixed for the proposed term, escalated at a known rate, or escalated with an index that is clearly and closely tied to the item being escalated. Regardless, the first year's pricing must be fixed.
G5: Number of turbines subject to Start Price for a complete facility start:
H6: (e.g., enter "2" for a 2x1 combined cycle)
E8: Price
C9: Commercial Operating Year | D9: Capacity Price ($/kW-mo) | E9: Battery Payment Rate / VOM ($/MWh) | F9: Turbine Start Price ($/turbine start)
C10: 1
C11: 2
C12: 3
C13: 4
C14: 5
C15: 6
C16: 7
C17: 8
C18: 9
C19: 10
C20: 11
C21: 12
... C39: 30
B41: Notes to Pricing:

Sheet D1_InterconnectDetails
A1: Form D1 - Electric Interconnection Details
B3: Please fill out this form to the extent that is applicable or known
A5: 1) | B5: Generator Interconnection Request Information
B7: Project Name
B8: SPP GIA Number
B9: MW Requested
B10: Point of Interconnection
B11: Point of Interconnection Voltage
B12: Location of Point of interconnection (Section(s), Township(s) and Range(s))
B13: Interconnection Transmission Owner
B14: State/County
B15: Interconnection Service Type
B16: Requested COD
A18: 2) | B18: Generator Interconnection Study Information
B20: SPP Study Status (ongoing, completed, etc.)
B21: Has SPP deliverability Study be completed?
B22: MW NRIS and MW ERIS
B23: Date MW deliverability effective
A25: 3) | B25: Generator Interconnection Agreement Information
B27: GIA Execution Date
B28: SPP Service Agreement #
B29: Was GIA filed unexecuted (yes/no)
B30: Is GIA provisional? (yes/no)
B31: Status of project (under construction, operating, etc.)
B32: Is the project in service? (yes/no)
B33: COD (actual or proposed)
A35: 4) | B35: Project Transmission Information
B37: Location of collector substation (state/county)
B38: Location of collector substation (Section(s), Township(s) and Range(s))
B39: Interconnecting Transmission Line Length
B40: Total MW at Point of Interconnection
A42: 5) | B42: Point of Contact for Transmission Information
B44: Contact Name
B45: Contact Phone Number
B46: Contact e-mail

Sheet D2_InterconnectCost
A1: Form D2 - Electric Interconnection and Network Upgrade Cost Estimates
B3: Plese fill out this form to the extent that is applicable or known
B5: Electric Interconnection Costs Included in Form C Pricing
B7: Interconnection Costs
B8: Network Upgrade Costs
B11: Notes to Pricing:

Sheet E1_Performance
A1: Form E1 - Facility Performance
B3: Please fill out this form to the extent that is applicable and known
A5: 1) | B5: Outages:
B6: Annual Expected Forced Outage Rate (%): | E6: Expected Average Annual Maintenance Requirements (days/year):
A9: 2) | B9: Start Times (time to start unit, sync to grid, and reach minimum load):
C10: Cold Start (minutes): | E10: Warm Start (minutes):
C11: Hot Start (minutes):
A13: 3) | B13: Ramp Rates
C14: Maximum load achievable in 10 minutes (% of full load): | E14: Maximum load achievable in 30 minutes (% of full load):
C15: Ramp Up Rate (MW/Minute) | E15: Ramp Down Rate (MW/Minute)
A17: 4) | B17: Minimum Up Time (min. time between generator breaker close and re-open) (minutes):
A18: 5) | B18: Minimum Down Time (min. time generator must be off-line before restarting) (minutes):
A20: 6) | B20: Maximum Starts per Day
A21: 7) | B21: Maximum Starts per Week
B23: Notes to Facility Performance:

Sheet E2_HeatRates
A1: Form E2 - Heat Rates
B3: Please fill out this form to the extent that is applicable and known
B5: Heat rates must be stated at the higher heating value (HHV), ambient air pressure of 12.9 psi, and 95° F for summer conditions and 20° F for winter conditions.
D7: Summer | F7: Winter
C8: Unit Loading | D8: Capacity (MW) | E8: Heat Rate (Btu/kWh) | F8: Capacity (MW) | G8: Heat Rate (Btu/kWh)
C9: Lowest stable operating point
C10: Lowest stable operating point on AGC
C11: 25% of base capacity
C12: 50% of base capacity
C13: 75% of base capacity
C14: 100% of base capacity
C15: 100% of base capacity, plus 100% of supplemental capacity
B17: Notes to Heat Rates:

Sheet E3_Storage
A1: Form E3 - Energy Storage Projects
B3: Please fill out this form to the extent that is applicable and known
A5: 1 | B5: Battery Information
B6: Manufacturer:
B7: Battery Storage Chemistry:
A9: 2) | B9: Battery Availability and Type:
B10: Type (Please select):
B11: Other (describe):
B12: Storage - Nameplate Capacity (MW):
B13: Storage - Duration (hours):
A15: 3) | B15: Performance Metrics:
B16: Guaranteed Storage Capacity (MWh):
B17: Guaranteed Minimum Charging Time (minutes):
B18: Guaranteed Maximum Charging Rate (MW):
B19: Guaranteed Minimum Discharging Time (minutes):
B20: Guaranteed Maximum Discharging Rate (MW):
B21: Maximum Ramp Rate (MW/second):
B22: Guaranteed Response Time (seconds):
B23: Maximum Cycles per Day:
B24: Estimated Lifetime Throughput (MWh):
A26: 4) | B26: Annual Throughput:
B27: Annual Throughput Limit (MWh):
A29: 5) | B29: Operational Limitations:
B30: a. State of Charge
B31: 1) Annual Average State of Charge (Not to Exceed) (%):
A33: 6) | B33: Round Trip Efficiency (RTE):
B34: Commercial Operating Year | C34: RTE
B35: 1
B36: 2
B37: 3
B38: 4
B39: 5
B40: 6
B41: 7
B42: 8
B43: 9
B44: 10
B45: 11
B46: 12
... B64: 30
...

Sheet F_NatGas
A1: Form F - Natural Gas and Backup Fuel Supply
B3: Please complete this form to the extent that is applicable and known
A5: 1) | B5: Natural Gas Supply
B6: SPS will manage the fuel supply
A10: 2) | B10: Natural Gas Pressure
B11: Minimum pressure required at gas interconnection point: | D11: (psig)
B12: Maximum pressure required at gas interconnection point: | D12: (psig)
B13: Minimum pressure required at plant burner tip: | D13: (psig)
B14: Gas delivery pressure guaranteed by the interconnecting pipeline at the fuel delivery point: | D14: (psig)
A16: 3) | B16: Natural Gas Quantities
B17: Indicate the maximum daily and hourly gas consumption at the proposed plant. | C17: Summer | D17: Winter
B18: Maximum Daily Consumption for Electrical Generation (MMBtu/day)
B19: Maximum Hourly Consumption for Electrical Generation (MMBtu/hour)
B20: Describe any ancillary equipment which may utilize fuel when the facility is off-line and describe who is responsible for the ancillary gas usage costs. Indicate the maximum ancillary volumes below .
C22: Summer | D22: Winter
B23: Maximum Daily Consumption for Ancillaries (MMBtu/day)
B24: Maximum Hourly Consumption for Ancillaries (MMBtu/hour)
A27: 4) | B27: Secondary Fuel Supply
B28: If secondary, on-site fuel storage is proposed, describe the fuel type, including quality specifications, quantity, maximum number of full-load run hours on secondary fuel, and levelized Capacity Price reduction for the same project with no backup fuel capability.
B32: Proposed secondary fuel, on-site storage volume (gallon)
B33: Estimated, Net Capability run hours on secondary fuel (hours)
B35: Notes to Gas Supply:

Sheet KeyVals
A1: sheet | B1: key | C1: value | I1: D1 Pricing
A2: A_NOIR | B2: a_company_name | C2: =#REF! -> #REF! | D2: =IF(C2=0,"",C2) -> #REF! | I2: series_type | J2: yr01 | K2: yr02 | L2: yr03 | M2: yr04 | N2: yr05 | O2: yr06 | P2: yr07 | Q2: yr08 | R2: yr09 | S2: yr10 | T2: yr11 | U2: yr12 | V2: yr13 | W2: yr14 | X2: yr15 | Y2: yr16 | Z2: yr17 | AA2: yr18 | AB2: yr19 | AC2: yr20 | AD2: yr21 | AE2: yr22 | AF2: yr23 | AG2: yr24 | AH2: yr25 | AI2: d1_pricing_notes
A3: A_NOIR | B3: a_address | C3: =#REF! -> #REF! | D3: =IF(C3=0,"",C3) -> #REF! | I3: Capacity Price | J3: =OFFSET(C_Pricing!$D$10,RIGHT(J$2,2)-1,ROW(J3)-3) -> 0 | K3: =OFFSET(C_Pricing!$D$10,RIGHT(K$2,2)-1,ROW(K3)-3) -> 0 | L3: =OFFSET(C_Pricing!$D$10,RIGHT(L$2,2)-1,ROW(L3)-3) -> 0 | M3: =OFFSET(C_Pricing!$D$10,RIGHT(M$2,2)-1,ROW(M3)-3) -> 0 | N3: =OFFSET(C_Pricing!$D$10,RIGHT(N$2,2)-1,ROW(N3)-3) -> 0 | O3: =OFFSET(C_Pricing!$D$10,RIGHT(O$2,2)-1,ROW(O3)-3) -> 0 | P3: =OFFSET(C_Pricing!$D$10,RIGHT(P$2,2)-1,ROW(P3)-3) -> 0 | Q3: =OFFSET(C_Pricing!$D$10,RIGHT(Q$2,2)-1,ROW(Q3)-3) -> 0 | ... AH3: =OFFSET(C_Pricing!$D$10,RIGHT(AH$2,2)-1,ROW(AH3)-3) -> 0 | AI3: =IF(C_Pricing!$B$42=0,"",C_Pricing!$B$42)
A4: A_NOIR | B4: a_city | C4: =#REF! -> #REF! | D4: =IF(C4=0,"",C4) -> #REF! | I4: Energy Payment Rate | J4: =OFFSET(C_Pricing!$D$10,RIGHT(J$2,2)-1,ROW(J4)-3) -> 0 | K4: =OFFSET(C_Pricing!$D$10,RIGHT(K$2,2)-1,ROW(K4)-3) -> 0 | L4: =OFFSET(C_Pricing!$D$10,RIGHT(L$2,2)-1,ROW(L4)-3) -> 0 | M4: =OFFSET(C_Pricing!$D$10,RIGHT(M$2,2)-1,ROW(M4)-3) -> 0 | N4: =OFFSET(C_Pricing!$D$10,RIGHT(N$2,2)-1,ROW(N4)-3) -> 0 | O4: =OFFSET(C_Pricing!$D$10,RIGHT(O$2,2)-1,ROW(O4)-3) -> 0 | P4: =OFFSET(C_Pricing!$D$10,RIGHT(P$2,2)-1,ROW(P4)-3) -> 0 | Q4: =OFFSET(C_Pricing!$D$10,RIGHT(Q$2,2)-1,ROW(Q4)-3) -> 0 | ... AH4: =OFFSET(C_Pricing!$D$10,RIGHT(AH$2,2)-1,ROW(AH4)-3) -> 0 | AI4: =IF(C_Pricing!$B$42=0,"",C_Pricing!$B$42)
A5: A_NOIR | B5: a_state | C5: =#REF! -> #REF! | D5: =IF(C5=0,"",C5) -> #REF! | I5: Unit Start Price | J5: =OFFSET(C_Pricing!$D$10,RIGHT(J$2,2)-1,ROW(J5)-3) -> 0 | K5: =OFFSET(C_Pricing!$D$10,RIGHT(K$2,2)-1,ROW(K5)-3) -> 0 | L5: =OFFSET(C_Pricing!$D$10,RIGHT(L$2,2)-1,ROW(L5)-3) -> 0 | M5: =OFFSET(C_Pricing!$D$10,RIGHT(M$2,2)-1,ROW(M5)-3) -> 0 | N5: =OFFSET(C_Pricing!$D$10,RIGHT(N$2,2)-1,ROW(N5)-3) -> 0 | O5: =OFFSET(C_Pricing!$D$10,RIGHT(O$2,2)-1,ROW(O5)-3) -> 0 | P5: =OFFSET(C_Pricing!$D$10,RIGHT(P$2,2)-1,ROW(P5)-3) -> 0 | Q5: =OFFSET(C_Pricing!$D$10,RIGHT(Q$2,2)-1,ROW(Q5)-3) -> 0 | ... AH5: =OFFSET(C_Pricing!$D$10,RIGHT(AH$2,2)-1,ROW(AH5)-3) -> 0 | AI5: =IF(C_Pricing!$B$42=0,"",C_Pricing!$B$42)
A6: A_NOIR | B6: a_zip | C6: =IF(#REF!<10000,"0"&#REF!,TEXT(#REF!,"0")) -> #REF! | D6: =IF(C6=0,"",C6) -> #REF! | I6: Energy Payment Rate | J6: =OFFSET(C_Pricing!$D$10,RIGHT(J$2,2)-1,ROW(J6)-3) -> 0 | K6: =OFFSET(C_Pricing!$D$10,RIGHT(K$2,2)-1,ROW(K6)-3) -> 0 | L6: =OFFSET(C_Pricing!$D$10,RIGHT(L$2,2)-1,ROW(L6)-3) -> 0 | M6: =OFFSET(C_Pricing!$D$10,RIGHT(M$2,2)-1,ROW(M6)-3) -> 0 | N6: =OFFSET(C_Pricing!$D$10,RIGHT(N$2,2)-1,ROW(N6)-3) -> 0 | O6: =OFFSET(C_Pricing!$D$10,RIGHT(O$2,2)-1,ROW(O6)-3) -> 0 | P6: =OFFSET(C_Pricing!$D$10,RIGHT(P$2,2)-1,ROW(P6)-3) -> 0 | Q6: =OFFSET(C_Pricing!$D$10,RIGHT(Q$2,2)-1,ROW(Q6)-3) -> 0 | ... AH6: =OFFSET(C_Pricing!$D$10,RIGHT(AH$2,2)-1,ROW(AH6)-3) -> 0 | AI6: =IF(C_Pricing!$B$42=0,"",C_Pricing!$B$42)
A7: A_NOIR | B7: a_company_rep_name | C7: =#REF! -> #REF! | D7: =IF(C7=0,"",C7) -> #REF! | I7: Unit Start Price | J7: =OFFSET(C_Pricing!$D$10,RIGHT(J$2,2)-1,ROW(J7)-3) -> 0 | K7: =OFFSET(C_Pricing!$D$10,RIGHT(K$2,2)-1,ROW(K7)-3) -> 0 | L7: =OFFSET(C_Pricing!$D$10,RIGHT(L$2,2)-1,ROW(L7)-3) -> 0 | M7: =OFFSET(C_Pricing!$D$10,RIGHT(M$2,2)-1,ROW(M7)-3) -> 0 | N7: =OFFSET(C_Pricing!$D$10,RIGHT(N$2,2)-1,ROW(N7)-3) -> 0 | O7: =OFFSET(C_Pricing!$D$10,RIGHT(O$2,2)-1,ROW(O7)-3) -> 0 | P7: =OFFSET(C_Pricing!$D$10,RIGHT(P$2,2)-1,ROW(P7)-3) -> 0 | Q7: =OFFSET(C_Pricing!$D$10,RIGHT(Q$2,2)-1,ROW(Q7)-3) -> 0 | ... AH7: =OFFSET(C_Pricing!$D$10,RIGHT(AH$2,2)-1,ROW(AH7)-3) -> 0 | AI7: =IF(C_Pricing!$B$42=0,"",C_Pricing!$B$42)
A8: A_NOIR | B8: a_signature | C8: =#REF! -> #REF! | D8: =IF(C8=0,"",C8) -> #REF!
A9: A_NOIR | B9: a_email | C9: =#REF! -> #REF! | D9: =IF(C9=0,"",C9) -> #REF! | I9: F1 Contract Capacity | J9: yr01 | K9: yr02 | L9: yr03 | M9: yr04 | N9: yr05 | O9: yr06 | P9: yr07 | Q9: yr08 | R9: yr09 | S9: yr10 | T9: yr11 | U9: yr12 | V9: yr13 | W9: yr14 | X9: yr15 | Y9: yr16 | Z9: yr17 | AA9: yr18 | AB9: yr19 | AC9: yr20 | AD9: yr21 | AE9: yr22 | AF9: yr23 | AG9: yr24 | AH9: yr25 | AI9: f1d_capacity_notes
A10: A_NOIR | B10: a_phone | C10: =#REF! -> #REF! | D10: =IF(C10=0,"",C10) -> #REF! | I10: base_s | J10: =OFFSET(#REF!,COLUMN(J10)-10,ROW(J10)-10) -> #REF! | K10: =OFFSET(#REF!,COLUMN(K10)-10,ROW(K10)-10) -> #REF! | L10: =OFFSET(#REF!,COLUMN(L10)-10,ROW(L10)-10) -> #REF! | M10: =OFFSET(#REF!,COLUMN(M10)-10,ROW(M10)-10) -> #REF! | N10: =OFFSET(#REF!,COLUMN(N10)-10,ROW(N10)-10) -> #REF! | O10: =OFFSET(#REF!,COLUMN(O10)-10,ROW(O10)-10) -> #REF! | P10: =OFFSET(#REF!,COLUMN(P10)-10,ROW(P10)-10) -> #REF! | Q10: =OFFSET(#REF!,COLUMN(Q10)-10,ROW(Q10)-10) -> #REF! | ... AH10: =OFFSET(#REF!,COLUMN(AH10)-10,ROW(AH10)-10) -> #REF! | AI10: =IF(#REF!="","",#REF!) -> #REF!
A11: A_NOIR | B11: a_fax | C11: =#REF! -> #REF! | D11: =IF(C11=0,"",C11) -> #REF! | I11: supplemental_s | J11: =OFFSET(#REF!,COLUMN(J11)-10,ROW(J11)-10) -> #REF! | K11: =OFFSET(#REF!,COLUMN(K11)-10,ROW(K11)-10) -> #REF! | L11: =OFFSET(#REF!,COLUMN(L11)-10,ROW(L11)-10) -> #REF! | M11: =OFFSET(#REF!,COLUMN(M11)-10,ROW(M11)-10) -> #REF! | N11: =OFFSET(#REF!,COLUMN(N11)-10,ROW(N11)-10) -> #REF! | O11: =OFFSET(#REF!,COLUMN(O11)-10,ROW(O11)-10) -> #REF! | P11: =OFFSET(#REF!,COLUMN(P11)-10,ROW(P11)-10) -> #REF! | Q11: =OFFSET(#REF!,COLUMN(Q11)-10,ROW(Q11)-10) -> #REF! | ... AH11: =OFFSET(#REF!,COLUMN(AH11)-10,ROW(AH11)-10) -> #REF! | AI11: =IF(#REF!="","",#REF!) -> #REF!
A12: A_NOIR | B12: a_project_name | C12: =#REF! -> #REF! | D12: =IF(C12=0,"",C12) -> #REF! | I12: base_w | J12: =OFFSET(#REF!,COLUMN(J12)-10,ROW(J12)-10) -> #REF! | K12: =OFFSET(#REF!,COLUMN(K12)-10,ROW(K12)-10) -> #REF! | L12: =OFFSET(#REF!,COLUMN(L12)-10,ROW(L12)-10) -> #REF! | M12: =OFFSET(#REF!,COLUMN(M12)-10,ROW(M12)-10) -> #REF! | N12: =OFFSET(#REF!,COLUMN(N12)-10,ROW(N12)-10) -> #REF! | O12: =OFFSET(#REF!,COLUMN(O12)-10,ROW(O12)-10) -> #REF! | P12: =OFFSET(#REF!,COLUMN(P12)-10,ROW(P12)-10) -> #REF! | Q12: =OFFSET(#REF!,COLUMN(Q12)-10,ROW(Q12)-10) -> #REF! | ... AH12: =OFFSET(#REF!,COLUMN(AH12)-10,ROW(AH12)-10) -> #REF! | AI12: =IF(#REF!="","",#REF!) -> #REF!
A13: A_NOIR | B13: a_resource_type | C13: =#REF! -> #REF! | D13: =IF(C13=0,"",C13) -> #REF! | I13: supplemental_w | J13: =OFFSET(#REF!,COLUMN(J13)-10,ROW(J13)-10) -> #REF! | K13: =OFFSET(#REF!,COLUMN(K13)-10,ROW(K13)-10) -> #REF! | L13: =OFFSET(#REF!,COLUMN(L13)-10,ROW(L13)-10) -> #REF! | M13: =OFFSET(#REF!,COLUMN(M13)-10,ROW(M13)-10) -> #REF! | N13: =OFFSET(#REF!,COLUMN(N13)-10,ROW(N13)-10) -> #REF! | O13: =OFFSET(#REF!,COLUMN(O13)-10,ROW(O13)-10) -> #REF! | P13: =OFFSET(#REF!,COLUMN(P13)-10,ROW(P13)-10) -> #REF! | Q13: =OFFSET(#REF!,COLUMN(Q13)-10,ROW(Q13)-10) -> #REF! | ... AH13: =OFFSET(#REF!,COLUMN(AH13)-10,ROW(AH13)-10) -> #REF! | AI13: =IF(#REF!="","",#REF!) -> #REF!
A14: A_NOIR | B14: a_nameplate | C14: =#REF! -> #REF! | D14: =IF(C14=0,"",C14) -> #REF! | I14: net | J14: =OFFSET(#REF!,COLUMN(J14)-10,ROW(J14)-10) -> #REF! | K14: =OFFSET(#REF!,COLUMN(K14)-10,ROW(K14)-10) -> #REF! | L14: =OFFSET(#REF!,COLUMN(L14)-10,ROW(L14)-10) -> #REF! | M14: =OFFSET(#REF!,COLUMN(M14)-10,ROW(M14)-10) -> #REF! | N14: =OFFSET(#REF!,COLUMN(N14)-10,ROW(N14)-10) -> #REF! | O14: =OFFSET(#REF!,COLUMN(O14)-10,ROW(O14)-10) -> #REF! | P14: =OFFSET(#REF!,COLUMN(P14)-10,ROW(P14)-10) -> #REF! | Q14: =OFFSET(#REF!,COLUMN(Q14)-10,ROW(Q14)-10) -> #REF! | ... AH14: =OFFSET(#REF!,COLUMN(AH14)-10,ROW(AH14)-10) -> #REF! | AI14: =IF(#REF!="","",#REF!) -> #REF!
A15: A_NOIR | B15: a_heatrate | C15: =#REF! -> #REF! | D15: =IF(C15=0,"",C15) -> #REF!
A16: A_NOIR | B16: a_capfactor | D16: =IF(C16=0,"",C16)
A17: A_NOIR | B17: a_annual_energy | D17: =IF(C17=0,"",C17)
A18: A_NOIR | B18: a_project_location | C18: =#REF! -> #REF! | D18: =IF(C18=0,"",C18) -> #REF!
A19: A_NOIR | B19: a_proposed_COD | C19: =#REF! -> #REF! | D19: =IF(C19=0,"",C19) -> #REF! | I19: F4 HR Degrade
A20: A_NOIR | B20: a_contract_term | C20: =#REF! -> #REF! | D20: =IF(C20=0,"",C20) -> #REF! | I20: Period start | J20: =OFFSET(#REF!,COLUMN(J20)-10,ROW(J20)-ROW($J$20)) -> #REF! | K20: =OFFSET(#REF!,COLUMN(K20)-10,ROW(K20)-ROW($J$20)) -> #REF! | L20: =OFFSET(#REF!,COLUMN(L20)-10,ROW(L20)-ROW($J$20)) -> #REF! | M20: =OFFSET(#REF!,COLUMN(M20)-10,ROW(M20)-ROW($J$20)) -> #REF! | N20: =OFFSET(#REF!,COLUMN(N20)-10,ROW(N20)-ROW($J$20)) -> #REF! | O20: =OFFSET(#REF!,COLUMN(O20)-10,ROW(O20)-ROW($J$20)) -> #REF! | P20: =OFFSET(#REF!,COLUMN(P20)-10,ROW(P20)-ROW($J$20)) -> #REF! | Q20: =OFFSET(#REF!,COLUMN(Q20)-10,ROW(Q20)-ROW($J$20)) -> #REF! | ... S20: =OFFSET(#REF!,COLUMN(S20)-10,ROW(S20)-ROW($J$20)) -> #REF!
A21: A_NOIR | B21: a_notes | C21: =#REF! -> #REF! | D21: =IF(C21=0,"",C21) -> #REF! | I21: Period end | J21: =OFFSET(#REF!,COLUMN(J21)-10,ROW(J21)-ROW($J$20)) -> #REF! | K21: =OFFSET(#REF!,COLUMN(K21)-10,ROW(K21)-ROW($J$20)) -> #REF! | L21: =OFFSET(#REF!,COLUMN(L21)-10,ROW(L21)-ROW($J$20)) -> #REF! | M21: =OFFSET(#REF!,COLUMN(M21)-10,ROW(M21)-ROW($J$20)) -> #REF! | N21: =OFFSET(#REF!,COLUMN(N21)-10,ROW(N21)-ROW($J$20)) -> #REF! | O21: =OFFSET(#REF!,COLUMN(O21)-10,ROW(O21)-ROW($J$20)) -> #REF! | P21: =OFFSET(#REF!,COLUMN(P21)-10,ROW(P21)-ROW($J$20)) -> #REF! | Q21: =OFFSET(#REF!,COLUMN(Q21)-10,ROW(Q21)-ROW($J$20)) -> #REF! | ... S21: =OFFSET(#REF!,COLUMN(S21)-10,ROW(S21)-ROW($J$20)) -> #REF!
A22: B_BidCert | B22: b_submitby | C22: =#REF! -> #REF! | D22: =IF(C22=0,"",C22) -> #REF! | I22: pct degrade | J22: =OFFSET(#REF!,COLUMN(J22)-10,ROW(J22)-ROW($J$20)) -> #REF! | K22: =OFFSET(#REF!,COLUMN(K22)-10,ROW(K22)-ROW($J$20)) -> #REF! | L22: =OFFSET(#REF!,COLUMN(L22)-10,ROW(L22)-ROW($J$20)) -> #REF! | M22: =OFFSET(#REF!,COLUMN(M22)-10,ROW(M22)-ROW($J$20)) -> #REF! | N22: =OFFSET(#REF!,COLUMN(N22)-10,ROW(N22)-ROW($J$20)) -> #REF! | O22: =OFFSET(#REF!,COLUMN(O22)-10,ROW(O22)-ROW($J$20)) -> #REF! | P22: =OFFSET(#REF!,COLUMN(P22)-10,ROW(P22)-ROW($J$20)) -> #REF! | Q22: =OFFSET(#REF!,COLUMN(Q22)-10,ROW(Q22)-ROW($J$20)) -> #REF! | ... S22: =OFFSET(#REF!,COLUMN(S22)-10,ROW(S22)-ROW($J$20)) -> #REF!
A23: B_BidCert | B23: b_bidder | C23: =#REF! -> #REF! | D23: =IF(C23=0,"",C23) -> #REF! | I23: heat rate | J23: =OFFSET(#REF!,COLUMN(J23)-10,ROW(J23)-ROW($J$20)) -> #REF! | K23: =OFFSET(#REF!,COLUMN(K23)-10,ROW(K23)-ROW($J$20)) -> #REF! | L23: =OFFSET(#REF!,COLUMN(L23)-10,ROW(L23)-ROW($J$20)) -> #REF! | M23: =OFFSET(#REF!,COLUMN(M23)-10,ROW(M23)-ROW($J$20)) -> #REF! | N23: =OFFSET(#REF!,COLUMN(N23)-10,ROW(N23)-ROW($J$20)) -> #REF! | O23: =OFFSET(#REF!,COLUMN(O23)-10,ROW(O23)-ROW($J$20)) -> #REF! | P23: =OFFSET(#REF!,COLUMN(P23)-10,ROW(P23)-ROW($J$20)) -> #REF! | Q23: =OFFSET(#REF!,COLUMN(Q23)-10,ROW(Q23)-ROW($J$20)) -> #REF! | ... S23: =OFFSET(#REF!,COLUMN(S23)-10,ROW(S23)-ROW($J$20)) -> #REF!
A24: B_BidCert | B24: b_bidder_sig | C24: =#REF! -> #REF! | D24: =IF(C24=0,"",C24) -> #REF!
A25: B_BidCert | B25: b_officer_name | C25: =#REF! -> #REF! | D25: =IF(C25=0,"",C25) -> #REF!
A26: B_BidCert | B26: b_officer_title | C26: =#REF! -> #REF! | D26: =IF(C26=0,"",C26) -> #REF!
A27: B_BidCert | B27: b_date_signed | C27: =#REF! -> #REF! | D27: =IF(C27=0,"",C27) -> #REF!
A28: B_BidCert | B28: b_rfp_addenda | C28: =#REF! -> #REF! | D28: =IF(C28=0,"",C28) -> #REF!
A29: C_CoverSht | B29: c_project_name | C29: =#REF! -> #REF! | D29: =IF(C29=0,"",C29) -> #REF!
A30: C_CoverSht | B30: c_project_loc | C30: =#REF! -> #REF! | D30: =IF(C30=0,"",C30) -> #REF!
A31: C_CoverSht | B31: c_latitude | C31: =ABS(#REF!) -> #REF! | D31: =IF(C31=0,"",C31) -> #REF!
A32: C_CoverSht | B32: c_longitude | C32: =-ABS(#REF!) -> #REF! | D32: =IF(C32=0,"",C32) -> #REF!
A33: C_CoverSht | B33: c_bidder_name | C33: =#REF! -> #REF! | D33: =IF(C33=0,"",C33) -> #REF!
A34: C_CoverSht | B34: c_bidder_company | C34: =#REF! -> #REF! | D34: =IF(C34=0,"",C34) -> #REF!
A35: C_CoverSht | B35: c_bidder_address | C35: =#REF! -> #REF! | D35: =IF(C35=0,"",C35) -> #REF!
A36: C_CoverSht | B36: c_bidder_phonefax | C36: =#REF! -> #REF! | D36: =IF(C36=0,"",C36) -> #REF!
A37: C_CoverSht | B37: c_bidder_email | C37: =#REF! -> #REF! | D37: =IF(C37=0,"",C37) -> #REF!
A38: C_CoverSht | B38: c_alternate_name | C38: =#REF! -> #REF! | D38: =IF(C38=0,"",C38) -> #REF!
A39: C_CoverSht | B39: c_alternate_company | C39: =#REF! -> #REF! | D39: =IF(C39=0,"",C39) -> #REF!
A40: C_CoverSht | B40: c_alternate_address | C40: =#REF! -> #REF! | D40: =IF(C40=0,"",C40) -> #REF!
...
